BEGIN:VCALENDAR
CALSCALE:GREGORIAN
X-WR-TIMEZONE;VALUE=TEXT:GMT
PRODID:PEAK Corporation - piCal -
X-WR-CALNAME;VALUE=TEXT:フリーマーケット
VERSION:2.0
METHOD:PUBLISH
BEGIN:VTIMEZONE
TZID:GMT
BEGIN:STANDARD
DTSTART:19390101T000000
TZOFFSETFROM:+0000
TZOFFSETTO:+0000
TZNAME:GMT
END:STANDARD
END:VTIMEZONE
BEGIN:VEVENT
DTSTART;VALUE=DATE:20170602
DTEND;VALUE=DATE:20170603
LOCATION:
TRANSP:OPAQUE
SEQUENCE:1
UID:pical060-a85013232a40a71319caae642805febd
DTSTAMP:20170526T045224Z
CATEGORIES:信竜こどもの森児童館
DESCRIPTION:
SUMMARY:フリーマーケット
PRIORITY:0
CLASS:PUBLIC
END:VEVENT
END:VCALENDAR
