BEGIN:VCALENDAR
CALSCALE:GREGORIAN
X-WR-TIMEZONE;VALUE=TEXT:GMT
PRODID:PEAK Corporation - piCal -
X-WR-CALNAME;VALUE=TEXT:こっこクラス
VERSION:2.0
METHOD:PUBLISH
BEGIN:VTIMEZONE
TZID:GMT
BEGIN:STANDARD
DTSTART:19390101T000000
TZOFFSETFROM:+0000
TZOFFSETTO:+0000
TZNAME:GMT
END:STANDARD
END:VTIMEZONE
BEGIN:VEVENT
DTSTART:20191007T013000Z
DTEND:20191007T030000Z
LOCATION:
TRANSP:OPAQUE
SEQUENCE:0
UID:pical060-f5c1629ec6940e88e9168af772db5b6b
DTSTAMP:20190927T023822Z
CATEGORIES:信竜こどもの森児童館
DESCRIPTION:
SUMMARY:こっこクラス
PRIORITY:0
CLASS:PUBLIC
END:VEVENT
END:VCALENDAR
