BEGIN:VCALENDAR
CALSCALE:GREGORIAN
X-WR-TIMEZONE;VALUE=TEXT:GMT
PRODID:PEAK Corporation - piCal -
X-WR-CALNAME;VALUE=TEXT:どんぐりクラス
VERSION:2.0
METHOD:PUBLISH
BEGIN:VTIMEZONE
TZID:GMT
BEGIN:STANDARD
DTSTART:19390101T000000
TZOFFSETFROM:+0000
TZOFFSETTO:+0000
TZNAME:GMT
END:STANDARD
END:VTIMEZONE
BEGIN:VEVENT
DTSTART:20191008T013000Z
DTEND:20191008T030000Z
LOCATION:
TRANSP:OPAQUE
SEQUENCE:0
UID:pical060-49dfa08433390f8f4d523d05b659dc0c
DTSTAMP:20190927T023903Z
CATEGORIES:信竜こどもの森児童館
DESCRIPTION:
SUMMARY:どんぐりクラス
PRIORITY:0
CLASS:PUBLIC
END:VEVENT
END:VCALENDAR
