BEGIN:VCALENDAR
CALSCALE:GREGORIAN
X-WR-TIMEZONE;VALUE=TEXT:GMT
PRODID:PEAK Corporation - piCal -
X-WR-CALNAME;VALUE=TEXT:もりのひろば（運動会）
VERSION:2.0
METHOD:PUBLISH
BEGIN:VTIMEZONE
TZID:GMT
BEGIN:STANDARD
DTSTART:19390101T000000
TZOFFSETFROM:+0000
TZOFFSETTO:+0000
TZNAME:GMT
END:STANDARD
END:VTIMEZONE
BEGIN:VEVENT
DTSTART:20191009T013000Z
DTEND:20191009T030000Z
LOCATION:
TRANSP:OPAQUE
SEQUENCE:0
UID:pical060-a940251416261a949372e59e0d0907f8
DTSTAMP:20190927T024107Z
CATEGORIES:信竜こどもの森児童館
DESCRIPTION:
SUMMARY:もりのひろば（運動会）
PRIORITY:0
CLASS:PUBLIC
END:VEVENT
END:VCALENDAR
